BEGIN:VCALENDAR
PRODID:-//AT Content Types//AT Event//EN
VERSION:2.0
METHOD:PUBLISH
BEGIN:VEVENT
DTSTAMP:20260421T133809Z
CREATED:20250924T110737Z
UID:ATEvent-5b812f7e942a44369a8ce879f4b8bcc6
LAST-MODIFIED:20251007T155808Z
SUMMARY:Online Session - Thu 6th Nov\, 6:00 pm - 7:00 pm
DTSTART:20251106T180000Z
DTEND:20251106T190000Z
DESCRIPTION:https://events.teams.microsoft.com/event/e23e2e36-eec6-40c
 6-b461-20d8997fa69d@87d70b0f-5efc-4991-a065-e205bc3db308
CLASS:PUBLIC
END:VEVENT
END:VCALENDAR
