BEGIN:VCALENDAR
PRODID:-//AT Content Types//AT Event//EN
VERSION:2.0
METHOD:PUBLISH
BEGIN:VEVENT
DTSTAMP:20260421T133934Z
CREATED:20250924T111356Z
UID:ATEvent-a202d76411c145228b8505b4b02256c3
LAST-MODIFIED:20251007T155808Z
SUMMARY:St Ives Event 4  - Thu 13th Nov\, 2:00 pm - 7:00 pm
DTSTART:20251113T140000Z
DTEND:20251113T190000Z
DESCRIPTION:Burgess Hall\, One Leisure\, Westwood Road\, St Ives\, PE2
 7 6WU
CLASS:PUBLIC
END:VEVENT
END:VCALENDAR
