BEGIN:VCALENDAR
PRODID:-//AT Content Types//AT Event//EN
VERSION:2.0
METHOD:PUBLISH
BEGIN:VEVENT
DTSTAMP:20260421T133922Z
CREATED:20250924T111333Z
UID:ATEvent-5f1cfc5b27064f268504229f48d61e23
LAST-MODIFIED:20251007T155808Z
SUMMARY:Huntingdon Event 3 - Sat 8th Nov\, 9:00 am - 12:30 pm
DTSTART:20251108T090000Z
DTEND:20251108T123000Z
DESCRIPTION:The Coneygear Centre\, Buttsgrove Way\, Huntingdon\, PE29 
 1PE
CLASS:PUBLIC
END:VEVENT
END:VCALENDAR
