BEGIN:VCALENDAR
PRODID:-//AT Content Types//AT Event//EN
VERSION:2.0
METHOD:PUBLISH
BEGIN:VEVENT
DTSTAMP:20260423T090334Z
CREATED:20250924T111316Z
UID:ATEvent-f6b6a5a1c45342f48559e563b03946e6
LAST-MODIFIED:20251007T155808Z
SUMMARY:St Ives Event 2 - Thu 23rd Oct\, 2:00 pm - 7:00 pm
DTSTART:20251023T130000Z
DTEND:20251023T180000Z
DESCRIPTION:St Ives Corn Exchange\, The Pavement\, The Old Riverport\,
  St Ives\, PE27 5AD
CLASS:PUBLIC
END:VEVENT
END:VCALENDAR
