BEGIN:VCALENDAR
PRODID:-//AT Content Types//AT Event//EN
VERSION:2.0
METHOD:PUBLISH
BEGIN:VEVENT
DTSTAMP:20260421T134041Z
CREATED:20250924T111245Z
UID:ATEvent-87587070f640436fb48e832a22484f28
LAST-MODIFIED:20251007T155808Z
SUMMARY:Huntingdon Event 1 - Wed 22nd Oct\, 11:00 am - 3:00 pm
DTSTART:20251022T100000Z
DTEND:20251022T140000Z
DESCRIPTION:Huntingdon Town Hall\, 53 High Street\, Huntingdon\, PE29 
 3AQ
CLASS:PUBLIC
END:VEVENT
END:VCALENDAR
