BEGIN:VCALENDAR
PRODID:-//AT Content Types//AT Event//EN
VERSION:2.0
METHOD:PUBLISH
BEGIN:VEVENT
DTSTAMP:20260421T132739Z
CREATED:20250807T070905Z
UID:ATEvent-2c08e44ec3db44938923b27f34d87800
LAST-MODIFIED:20250807T070905Z
SUMMARY:St Neots Library
DTSTART:20250903T130000Z
DTEND:20250903T150000Z
CLASS:PUBLIC
END:VEVENT
END:VCALENDAR
