BEGIN:VCALENDAR
PRODID:-//AT Content Types//AT Event//EN
VERSION:2.0
METHOD:PUBLISH
BEGIN:VEVENT
DTSTAMP:20260421T132648Z
CREATED:20250805T080920Z
UID:ATEvent-d58bd541ec7e462293df2faeb9b0c979
LAST-MODIFIED:20250807T070905Z
SUMMARY:Peterborough Library
DTSTART:20250908T130000Z
DTEND:20250908T150000Z
CLASS:PUBLIC
END:VEVENT
END:VCALENDAR
