BEGIN:VCALENDAR
PRODID:-//AT Content Types//AT Event//EN
VERSION:2.0
METHOD:PUBLISH
BEGIN:VEVENT
DTSTAMP:20260421T132648Z
CREATED:20250729T124716Z
UID:ATEvent-94ebc0efa641414c9fdc9b1302094a91
LAST-MODIFIED:20250807T070905Z
SUMMARY:March Library
DTSTART:20250828T130000Z
DTEND:20250828T150000Z
CLASS:PUBLIC
END:VEVENT
END:VCALENDAR
