BEGIN:VCALENDAR
PRODID:-//AT Content Types//AT Event//EN
VERSION:2.0
METHOD:PUBLISH
BEGIN:VEVENT
DTSTAMP:20260421T132950Z
CREATED:20250729T124716Z
UID:ATEvent-cfa9dba7da6f42dc92196f1cbe1d9048
LAST-MODIFIED:20250807T070905Z
SUMMARY:Huntingdon Library
DTSTART:20250819T130000Z
DTEND:20250819T150000Z
CLASS:PUBLIC
END:VEVENT
END:VCALENDAR
