BEGIN:VCALENDAR
PRODID:-//AT Content Types//AT Event//EN
VERSION:2.0
METHOD:PUBLISH
BEGIN:VEVENT
DTSTAMP:20260421T132602Z
CREATED:20250729T124716Z
UID:ATEvent-4d4f20aa9c1b4886988afcb42ccd5633
LAST-MODIFIED:20250807T070905Z
SUMMARY:Ely Library
DTSTART:20250814T130000Z
DTEND:20250814T150000Z
CLASS:PUBLIC
END:VEVENT
END:VCALENDAR
