BEGIN:VCALENDAR
PRODID:-//AT Content Types//AT Event//EN
VERSION:2.0
METHOD:PUBLISH
BEGIN:VEVENT
DTSTAMP:20260421T132831Z
CREATED:20250729T124716Z
UID:ATEvent-eb4e1d1bedf54940a0b1cc7cc3cb54e9
LAST-MODIFIED:20250807T070905Z
SUMMARY:Central Library\, Cambridge
DTSTART:20250807T130000Z
DTEND:20250807T150000Z
CLASS:PUBLIC
END:VEVENT
END:VCALENDAR
