BEGIN:VCALENDAR
PRODID:-//AT Content Types//AT Event//EN
VERSION:2.0
METHOD:PUBLISH
BEGIN:VEVENT
DTSTAMP:20260421T133511Z
CREATED:20250805T110616Z
UID:ATEvent-e4de369299214dbcb350769c193dd169
LAST-MODIFIED:20251024T102738Z
SUMMARY:Public Drop-in
DTSTART:20251014T140000Z
DTEND:20251014T190000Z
DESCRIPTION:Want to speak to the team about the new travel hub on Newm
 arket Road? \nThis is your chance to hear about the plans from the pro
 ject team\, and then ask questions or share feedback.\n\nVenue: Newmar
 ket Road Park and Ride\, Newmarket Road\, Cambridge CB5 8AA
CLASS:PUBLIC
END:VEVENT
END:VCALENDAR
