BEGIN:VCALENDAR
PRODID:-//AT Content Types//AT Event//EN
VERSION:2.0
METHOD:PUBLISH
BEGIN:VEVENT
DTSTAMP:20260421T133609Z
CREATED:20251024T102735Z
UID:ATEvent-e948a5e7ac214e57ac66121920bb1a14
LAST-MODIFIED:20251024T102738Z
SUMMARY:Public Drop-in
DTSTART:20251029T170000Z
DTEND:20251029T200000Z
DESCRIPTION:Want to speak to the team about the new travel hub on Newm
 arket Road? \nThis is your chance to hear about the plans from the pro
 ject team\, and then ask questions or share feedback.\n\nVenue: Newmar
 ket Road Park and Ride\, Newmarket Road\, Cambridge CB5 8AA
CLASS:PUBLIC
END:VEVENT
END:VCALENDAR
