BEGIN:VCALENDAR
PRODID:-//AT Content Types//AT Event//EN
VERSION:2.0
METHOD:PUBLISH
BEGIN:VEVENT
DTSTAMP:20260421T133657Z
CREATED:20250805T110453Z
UID:ATEvent-3c33853da59a4f0799fa6ca286d4c950
LAST-MODIFIED:20251024T102738Z
SUMMARY:Online meeting
DTSTART:20251009T163000Z
DTEND:20251009T183000Z
DESCRIPTION:Want to speak to the team about the new travel hub on Newm
 arket Road? \nThis is your chance to hear about the plans from the pro
 ject team\, and then ask questions or share feedback.\n\nTo register p
 lease use this link: www.greatercambridge.org.uk/cea-travelhub-meeting
 
CLASS:PUBLIC
END:VEVENT
END:VCALENDAR
